BEGIN:VCALENDAR
VERSION:2.0
PRODID:-//Clark County Running Club - ECPv6.15.20//NONSGML v1.0//EN
CALSCALE:GREGORIAN
METHOD:PUBLISH
X-WR-CALNAME:Clark County Running Club
X-ORIGINAL-URL:https://www.clarkcountyrunningclub.org
X-WR-CALDESC:Events for Clark County Running Club
REFRESH-INTERVAL;VALUE=DURATION:PT1H
X-Robots-Tag:noindex
X-PUBLISHED-TTL:PT1H
BEGIN:VTIMEZONE
TZID:America/Los_Angeles
BEGIN:DAYLIGHT
TZOFFSETFROM:-0800
TZOFFSETTO:-0700
TZNAME:PDT
DTSTART:20180311T100000
END:DAYLIGHT
BEGIN:STANDARD
TZOFFSETFROM:-0700
TZOFFSETTO:-0800
TZNAME:PST
DTSTART:20181104T090000
END:STANDARD
BEGIN:DAYLIGHT
TZOFFSETFROM:-0800
TZOFFSETTO:-0700
TZNAME:PDT
DTSTART:20190310T100000
END:DAYLIGHT
BEGIN:STANDARD
TZOFFSETFROM:-0700
TZOFFSETTO:-0800
TZNAME:PST
DTSTART:20191103T090000
END:STANDARD
BEGIN:DAYLIGHT
TZOFFSETFROM:-0800
TZOFFSETTO:-0700
TZNAME:PDT
DTSTART:20200308T100000
END:DAYLIGHT
BEGIN:STANDARD
TZOFFSETFROM:-0700
TZOFFSETTO:-0800
TZNAME:PST
DTSTART:20201101T090000
END:STANDARD
BEGIN:DAYLIGHT
TZOFFSETFROM:-0800
TZOFFSETTO:-0700
TZNAME:PDT
DTSTART:20210314T100000
END:DAYLIGHT
BEGIN:STANDARD
TZOFFSETFROM:-0700
TZOFFSETTO:-0800
TZNAME:PST
DTSTART:20211107T090000
END:STANDARD
BEGIN:DAYLIGHT
TZOFFSETFROM:-0800
TZOFFSETTO:-0700
TZNAME:PDT
DTSTART:20220313T100000
END:DAYLIGHT
BEGIN:STANDARD
TZOFFSETFROM:-0700
TZOFFSETTO:-0800
TZNAME:PST
DTSTART:20221106T090000
END:STANDARD
END:VTIMEZONE
BEGIN:VEVENT
DTSTART;TZID=America/Los_Angeles:20210213T100000
DTEND;TZID=America/Los_Angeles:20210228T170000
DTSTAMP:20260423T141851
CREATED:20191003T041137Z
LAST-MODIFIED:20210103T034248Z
UID:874-1613210400-1614531600@www.clarkcountyrunningclub.org
SUMMARY:Vancouver Lake Half Marathon & 4 mile Run
DESCRIPTION:This event is free and open to the public.\nRun the Vancouver Lake course anytime during the last 2 weeks of February and send me your GPS file. And you will be listed in the results.\nSend you results to raceresults@comcast.net
URL:https://www.clarkcountyrunningclub.org/event/vancouver-lake-half-marathon-4-mile-run/
LOCATION:Vancouver Lake\, 6801 NW Lower River Road\, Vancouver\, 98660\, United States
END:VEVENT
BEGIN:VEVENT
DTSTART;TZID=America/Los_Angeles:20210130T100000
DTEND;TZID=America/Los_Angeles:20210130T120000
DTSTAMP:20260423T141851
CREATED:20190105T170055Z
LAST-MODIFIED:20210103T034054Z
UID:763-1612000800-1612008000@www.clarkcountyrunningclub.org
SUMMARY:Washougal Dike 3 & 5 Mile Vfirtual Run
DESCRIPTION:Race begins at Captain William Clark Park.  It is an out and back along the dike.  Be prepared\, it can be windy. \nRun east on trail.. You will need your GPS.\nSend you results to raceresults@comcast.net\n  \n 
URL:https://www.clarkcountyrunningclub.org/event/washougal-dike-3-5-mile-run/
LOCATION:Cottonwood Beach Park\, S. Index St. at S. 32nd St.\, Camas\, United States
END:VEVENT
BEGIN:VEVENT
DTSTART;TZID=America/Los_Angeles:20210116T100000
DTEND;TZID=America/Los_Angeles:20210116T170000
DTSTAMP:20260423T141851
CREATED:20191003T040919Z
LAST-MODIFIED:20210103T033850Z
UID:872-1610791200-1610816400@www.clarkcountyrunningclub.org
SUMMARY:Heritage Trail Virtual Runs
DESCRIPTION:Run 3\, 5\,7 or 10 Mile Run.  Good race to get ready for Vancouver Lake \nRun the Heritage trail. There are markers every quarter mile. If you are doing the 10 miler\, run the full 7 mile course and then run the 3 mile course.\nSend you results to raceresults@comcast.net \nSee Less
URL:https://www.clarkcountyrunningclub.org/event/heritage-trail-runs/
LOCATION:Heritage Trail\, 341 NW Lake\, Camas
END:VEVENT
BEGIN:VEVENT
DTSTART;TZID=America/Los_Angeles:20200823T000000
DTEND;TZID=America/Los_Angeles:20200829T233000
DTSTAMP:20260423T141851
CREATED:20190604T041125Z
LAST-MODIFIED:20200802T192940Z
UID:825-1598140800-1598743800@www.clarkcountyrunningclub.org
SUMMARY:Marine Park Virtual 5K #2
DESCRIPTION:Run starts at 6:30
URL:https://www.clarkcountyrunningclub.org/event/marine-park-5k-picnic/
LOCATION:Marine Park\, SE Marine Park Wy & Columbia Way\, Vancouver\, WA\, 98661\, United States
END:VEVENT
BEGIN:VEVENT
DTSTART;TZID=America/Los_Angeles:20200809T000000
DTEND;TZID=America/Los_Angeles:20200815T233000
DTSTAMP:20260423T141851
CREATED:20190604T040935Z
LAST-MODIFIED:20200802T204419Z
UID:821-1596931200-1597534200@www.clarkcountyrunningclub.org
SUMMARY:Leverich Park Virtual 5K #2
DESCRIPTION:Because of the homeless camp right at the start of the Leverich Park run\, you can run at Grass Valley as an alternate. \nRun starts by lower parking lot. Course follows trail out to NE 15 Ave and turns left. Go North and then turn left on NE 45th Street. Follow to Leverich Street. Turn right. Follow street to circle and enter path to discovery trail. Stay on trail across the I-5 pedestrian bridge. Turn around at post by Hazel Dell Ave. Follow same path back.
URL:https://www.clarkcountyrunningclub.org/event/leverich-park-5k-2-2/
LOCATION:Leverich Park\, NE Leverich Park Way\,\, Vancouver\, United States
END:VEVENT
BEGIN:VEVENT
DTSTART;TZID=America/Los_Angeles:20200802T000000
DTEND;TZID=America/Los_Angeles:20200808T233000
DTSTAMP:20260423T141851
CREATED:20190604T040853Z
LAST-MODIFIED:20200802T204441Z
UID:819-1596326400-1596929400@www.clarkcountyrunningclub.org
SUMMARY:Leverich Park Virtual  5K #1
DESCRIPTION:Because of the homeless camp right at the start of the Leverich Park run\, you can run at Grass Valley as an alternate. \nRun starts by lower parking lot. Course follows trail out to NE 15 Ave and turns left. Go North and then turn left on NE 45th Street. Follow to Leverich Street. Turn right. Follow street to circle and enter path to discovery trail. Stay on trail across the I-5 pedestrian bridge. Turn around at post by Hazel Dell Ave. Follow same path back.
URL:https://www.clarkcountyrunningclub.org/event/leverich-park-5k-1-3/
LOCATION:Leverich Park\, NE Leverich Park Way\,\, Vancouver\, United States
END:VEVENT
BEGIN:VEVENT
DTSTART;VALUE=DATE:20200726
DTEND;VALUE=DATE:20200727
DTSTAMP:20260423T141851
CREATED:20190604T035722Z
LAST-MODIFIED:20200718T011812Z
UID:817-1595721600-1595725200@www.clarkcountyrunningclub.org
SUMMARY:Round Lake 5K Virtual Run #2
DESCRIPTION:Starts and finishes by overflow parking lot on NE 35th Ave in Camas. Go North on sidewalk and enter park about 100 yards up. Follow main trail to the top of Hill. Turn Left and go about 40 yards to the “T”\, Turn left and follow main trail to the end at Crown Road. Touch gate and turnaround and come back.
URL:https://www.clarkcountyrunningclub.org/event/round-lake-5k-2/
LOCATION:Round Lake Park\, NE Lake Rd & NE Everett St.\, Camas\, WA\, United States
END:VEVENT
BEGIN:VEVENT
DTSTART;VALUE=DATE:20200719
DTEND;VALUE=DATE:20200720
DTSTAMP:20260423T141851
CREATED:20190604T035633Z
LAST-MODIFIED:20200718T011722Z
UID:815-1595116800-1595120400@www.clarkcountyrunningclub.org
SUMMARY:Round Lake 5K Virtual Run #1
DESCRIPTION:A tough hilly course . Starts by overflow parking lot \nStarts and finishes by overflow parking lot on NE 35th Ave in Camas. Go North on sidewalk and enter park about 100 yards up. Follow main trail to the top of Hill. Turn Left and go about 40 yards to the “T”\, Turn left and follow main trail to the end at Crown Road. Touch gate and turnaround and come back.
URL:https://www.clarkcountyrunningclub.org/event/round-lake-5k-1-2/
LOCATION:Round Lake Park\, NE Lake Rd & NE Everett St.\, Camas\, WA\, United States
END:VEVENT
BEGIN:VEVENT
DTSTART;TZID=America/Los_Angeles:20200712T000000
DTEND;TZID=America/Los_Angeles:20200718T220000
DTSTAMP:20260423T141851
CREATED:20190514T044945Z
LAST-MODIFIED:20200704T050045Z
UID:794-1594512000-1595109600@www.clarkcountyrunningclub.org
SUMMARY:David Douglas Virtual 5K #2
DESCRIPTION:This will be a virtual run since we have not moved into phase 3\,.\n\n\nThje runs begins in the grass by the big tree by the far shelter.\n\n\nGo west onto path and follow path along outside perimeter of the park. Leave trail by baseball diamond and follow tree line. At end of tree line\, make a 180 degree by the mound of dirt into the canyon. Go straight through canyon where it comes out at Andresen. Turn left and go up bill hill on the sidewalk. \n\n\nTurn left at Kansas\n\n\nTake second left onto Iowa and turn left on Topeka.\n\n\nFollow Topeka back to Kansas. Turn left onto Kansas.\n\n\nThen turn left onto Detroit. Then make a quick left back into park.\n\n\nCut diagonally across field to trail that takes you back down to canyon. Follow Canyon back to David Douglas Park. Follow same route back to shelter. Race ends by shelter.
URL:https://www.clarkcountyrunningclub.org/event/david-douglas-5k-2-3/
END:VEVENT
BEGIN:VEVENT
DTSTART;TZID=America/Los_Angeles:20200705T000000
DTEND;TZID=America/Los_Angeles:20200711T233000
DTSTAMP:20260423T141851
CREATED:20190514T044903Z
LAST-MODIFIED:20200704T050131Z
UID:792-1593907200-1594510200@www.clarkcountyrunningclub.org
SUMMARY:David Douglas Virtual  5K #1
DESCRIPTION:This will be a virtual run since we have not moved into phase 3\,.\n\n\nThje runs begins in the grass by the big tree by the far shelter.\n\n\nGo west onto path and follow path along outside perimeter of the park. Leave trail by baseball diamond and follow tree line. At end of tree line\, make a 180 degree by the mound of dirt into the canyon. Go straight through canyon where it comes out at Andresen. Turn left and go up bill hill on the sidewalk. \n\n\nTurn left at Kansas\n\n\nTake second left onto Iowa and turn left on Topeka.\n\n\nFollow Topeka back to Kansas. Turn left onto Kansas.\n\n\nThen turn left onto Detroit. Then make a quick left back into park.\n\n\nCut diagonally across field to trail that takes you back down to canyon. Follow Canyon back to David Douglas Park. Follow same route back to shelter. Race ends by shelter.
URL:https://www.clarkcountyrunningclub.org/event/david-douglas-5k-1/
LOCATION:David Douglas Park\, 1016 N Garrison Rd\, Vancouver\, WA\, United States
END:VEVENT
BEGIN:VEVENT
DTSTART;VALUE=DATE:20200704
DTEND;VALUE=DATE:20200705
DTSTAMP:20260423T141851
CREATED:20200703T042716Z
LAST-MODIFIED:20200703T042745Z
UID:934-1593820800-1593907199@www.clarkcountyrunningclub.org
SUMMARY:Virtual 4th of July Run at Pacific Park
DESCRIPTION:This is a one day virtual event that takes place at Pacific Park.\nThe course is 1.4 miles around the park. It starts by the shelter. You can run 1\,2 3\, or 4 loops. (1.4\, 2.8\,4.2 or 5.6 miles)\, You can start any time but I will be there recording times until 10 AM. It must be completed on the 4th. And this run does not count for the summer series. It is totally optional. If you plan to stick around and mingle\, please follow COVID-19 guidelines. Bring a mask and make sure you keep 6 feet apart from others\, \nIt is open to the public and it is free for everyone. \nPlease send me your results at raceresults@comcast.net. \n 
URL:https://www.clarkcountyrunningclub.org/event/virtual-4th-of-july-run-at-pacific-park/
LOCATION:Pacific Park\, Pacific Park 1515 NE 164th Ave\, Vancouver\, WA\, 98684\, United States
END:VEVENT
BEGIN:VEVENT
DTSTART;TZID=America/Los_Angeles:20200628T000000
DTEND;TZID=America/Los_Angeles:20200704T233000
DTSTAMP:20260423T141851
CREATED:20200607T204444Z
LAST-MODIFIED:20200607T204444Z
UID:915-1593302400-1593905400@www.clarkcountyrunningclub.org
SUMMARY:Grass Valley 5K Virtual Run #2
DESCRIPTION:This will be a virtual run unless Clark County moves to Phase 3.\n\n\nYou can view the course at https://www.mapmyrun.com/routes/view/3109476469 \n\n\nCourse:\n\n\nStart on trail in Park and go east\n\n\nTurn right at first intersection\n\n\nTrun right on NW 38th Ave. Stay on sidewalk\n\n\nTurn right on Parker\n\n\nTurn right on NW Lake RD\n\n\nTurn right on NW Leadbetter Drive\n\n\nTake first left at NW Fremont St\n\n\nGo straight to school\n\n\nFollow path on left of schol and go by playgroun\n\n\nGo through gate\n\n\nTurn right on trail\n\n\nTake a right halfway down trail into Grass Valley Park\n\n\nFinish where you started\n\n\n \n\n\nEmail your results to raceresults@comcast.net
URL:https://www.clarkcountyrunningclub.org/event/grass-valley-5k-virtual-run-2/
LOCATION:Grass Valley Park\, 3211 NW 38th Ave\, Camas\, WA\, United States
END:VEVENT
BEGIN:VEVENT
DTSTART;TZID=America/Los_Angeles:20200607T000000
DTEND;TZID=America/Los_Angeles:20200613T233000
DTSTAMP:20260423T141851
CREATED:20200607T204021Z
LAST-MODIFIED:20200607T204554Z
UID:909-1591488000-1592091000@www.clarkcountyrunningclub.org
SUMMARY:Heritage Trail 3 & 5 Mile Virtual Run #1
DESCRIPTION:Run begins on east end of Heirtage trail by boat ramp. It is an out and back. Begin on trail by small shelter. Run across grass and road to start of Heritage Trail. The turnaround for the 3 miler is at the 1.25 mile marker. The turnaround for the 5 miler is at the 2.25 mile marker. The markers are off by a quarter mile because we begin a quarter mile before the start of the markers. \nYou can email your results to raceresults@comcast.net
URL:https://www.clarkcountyrunningclub.org/event/heritage-trail-3-5-mile-virtual-run/
LOCATION:Heritage Trail\, 341 NW Lake\, Camas
END:VEVENT
BEGIN:VEVENT
DTSTART;TZID=America/Los_Angeles:20200411T100000
DTEND;TZID=America/Los_Angeles:20200411T113000
DTSTAMP:20260423T141851
CREATED:20190419T041630Z
LAST-MODIFIED:20200318T133626Z
UID:779-1586599200-1586604600@www.clarkcountyrunningclub.org
SUMMARY:Ellen Davis 3 & 4.5 Mile Trail Run Cancelled
DESCRIPTION:Race starts at Leverich Park  in north parking lot. \nThis is a challenging hilly run\, It begins at 10:00 AM
URL:https://www.clarkcountyrunningclub.org/event/ellen-davis-3-4-5-mile-trail-run/
LOCATION:Leverich Park\, NE Leverich Park Way\,\, Vancouver\, United States
END:VEVENT
BEGIN:VEVENT
DTSTART;TZID=America/Los_Angeles:20200314T100000
DTEND;TZID=America/Los_Angeles:20200314T170000
DTSTAMP:20260423T141851
CREATED:20200226T052649Z
LAST-MODIFIED:20200226T052649Z
UID:898-1584180000-1584205200@www.clarkcountyrunningclub.org
SUMMARY:BBC to Burton Road 3 & 5 Mile Run
DESCRIPTION:Race begins at 10 AM \nThis run begins in David Douglas Park back by the shelter.  It takes the trail through the canyon.  It turns right on Andresen and proceeds to the Burnt Bridge trail where it turns right.  The 5 miler goes all the way to Burton Road
URL:https://www.clarkcountyrunningclub.org/event/bbc-to-burton-road-3-5-mile-run/
LOCATION:David Douglas Park\, 1016 N Garrison Rd\, Vancouver\, WA\, United States
END:VEVENT
BEGIN:VEVENT
DTSTART;TZID=America/Los_Angeles:20200229T100000
DTEND;TZID=America/Los_Angeles:20200229T120000
DTSTAMP:20260423T141851
CREATED:20190105T165840Z
LAST-MODIFIED:20200226T052357Z
UID:761-1582970400-1582977600@www.clarkcountyrunningclub.org
SUMMARY:Burnt Bridge Creek 3 & 5 Mile Run
DESCRIPTION:Race begins at 10 AM \nRace starts at Leverich Park.  It is an out and back along the burnt bridge trail.  The turn around is at Bernie Road and Lakeshore
URL:https://www.clarkcountyrunningclub.org/event/burnt-bridge-creek-3-5-mile-run-2/
LOCATION:Leverich Park\, NE Leverich Park Way\,\, Vancouver\, United States
END:VEVENT
BEGIN:VEVENT
DTSTART;TZID=America/Los_Angeles:20200125T100000
DTEND;TZID=America/Los_Angeles:20200125T170000
DTSTAMP:20260423T141851
CREATED:20191003T040742Z
LAST-MODIFIED:20191003T040742Z
UID:870-1579946400-1579971600@www.clarkcountyrunningclub.org
SUMMARY:Washougal Greenway Runs
DESCRIPTION:Run 3 or 6 miles on the Washougal Greenway
URL:https://www.clarkcountyrunningclub.org/event/washougal-greenway-runs/
LOCATION:Washougal River Greenway\, 214 SE Yale St.\, Camas\, WA\, 98607\, United States
END:VEVENT
BEGIN:VEVENT
DTSTART;TZID=America/Los_Angeles:20200101T100000
DTEND;TZID=America/Los_Angeles:20200101T170000
DTSTAMP:20260423T141851
CREATED:20191003T040614Z
LAST-MODIFIED:20191003T040614Z
UID:868-1577872800-1577898000@www.clarkcountyrunningclub.org
SUMMARY:Hangover Run
DESCRIPTION:On Salmon Creek Trail.  3 or 5 miles. \nThis is a good time to renew your membership
URL:https://www.clarkcountyrunningclub.org/event/hangover-run-3/
LOCATION:Klineline\, 1112 N.E. 117th St.\, Vancouver\, United States
END:VEVENT
BEGIN:VEVENT
DTSTART;TZID=America/Los_Angeles:20191224T100000
DTEND;TZID=America/Los_Angeles:20191224T170000
DTSTAMP:20260423T141851
CREATED:20191003T040448Z
LAST-MODIFIED:20191003T040505Z
UID:866-1577181600-1577206800@www.clarkcountyrunningclub.org
SUMMARY:Homestead Park Xmas Eve 3K Run
DESCRIPTION:Hosted by Kevin Edwards.  Run 5 laps around Homestead Park. \nKevin will provide Starbucks
URL:https://www.clarkcountyrunningclub.org/event/homestead-park-xmas-eve-3k-run/
LOCATION:Homestead Neighborhood Park\, SE 160th Ave & SE 18Th St\, Vancouver\, WA\, 98683\, United States
END:VEVENT
BEGIN:VEVENT
DTSTART;TZID=America/Los_Angeles:20191221T100000
DTEND;TZID=America/Los_Angeles:20191221T170000
DTSTAMP:20260423T141851
CREATED:20191003T040342Z
LAST-MODIFIED:20191003T040342Z
UID:864-1576922400-1576947600@www.clarkcountyrunningclub.org
SUMMARY:Pacific Park Run
DESCRIPTION:Run 1\, 2 or 3 laps.  Each lap is 1.4 miles \n 
URL:https://www.clarkcountyrunningclub.org/event/pacific-park-run-3/
LOCATION:Pacific Park\, Pacific Park 1515 NE 164th Ave\, Vancouver\, WA\, 98684\, United States
END:VEVENT
BEGIN:VEVENT
DTSTART;TZID=America/Los_Angeles:20191214T100000
DTEND;TZID=America/Los_Angeles:20191214T110000
DTSTAMP:20260423T141851
CREATED:20191003T040244Z
LAST-MODIFIED:20191030T025244Z
UID:862-1576317600-1576321200@www.clarkcountyrunningclub.org
SUMMARY:Lincoln School Holiday Run
DESCRIPTION:Run the challenging 4.3 mile run and then enjoy some great Christmas treats afterward. \nRun begins at 10 AM
URL:https://www.clarkcountyrunningclub.org/event/salmon-creek-runs/
LOCATION:Lincoln School\, 4200 Daniels \, Vancouver\, WA\, United States
END:VEVENT
BEGIN:VEVENT
DTSTART;TZID=America/Los_Angeles:20191130T100000
DTEND;TZID=America/Los_Angeles:20191130T170000
DTSTAMP:20260423T141851
CREATED:20191003T040138Z
LAST-MODIFIED:20191003T040138Z
UID:860-1575108000-1575133200@www.clarkcountyrunningclub.org
SUMMARY:Heritage Trail Run
DESCRIPTION:Run 3\, 5 or 7 mile course
URL:https://www.clarkcountyrunningclub.org/event/heritage-trail-run/
LOCATION:Heritage Trail\, 341 NW Lake\, Camas
END:VEVENT
BEGIN:VEVENT
DTSTART;TZID=America/Los_Angeles:20191123T100000
DTEND;TZID=America/Los_Angeles:20191123T170000
DTSTAMP:20260423T141851
CREATED:20191003T040013Z
LAST-MODIFIED:20191026T223259Z
UID:858-1574503200-1574528400@www.clarkcountyrunningclub.org
SUMMARY:Turkey Trot 5K on the Waterfront
DESCRIPTION:New course for this year’s Turkey Trot .  Starts on new waterfront by  the intersection of Waterfront Way and  Parkway Place.   There is plenty of Free on street parking. And Bathrooms right by the start. \nRace begins at 10:00 AM \nStart  and Finish Location  https://goo.gl/maps/VKmLPuNLMyBfts3r5
URL:https://www.clarkcountyrunningclub.org/event/turkey-trot-5k-on-the-waterfront/
LOCATION:https://goo.gl/maps/VKmLPuNLMyBfts3r5
END:VEVENT
BEGIN:VEVENT
DTSTART;TZID=America/Los_Angeles:20191116T100000
DTEND;TZID=America/Los_Angeles:20191116T110000
DTSTAMP:20260423T141851
CREATED:20191113T034402Z
LAST-MODIFIED:20191113T034402Z
UID:893-1573898400-1573902000@www.clarkcountyrunningclub.org
SUMMARY:WSU Vancouver 3.5 Mile Trail Run
DESCRIPTION:The run begins  in the second grey parking lot on the back side of the campus
URL:https://www.clarkcountyrunningclub.org/event/wsu-vancouver-3-5-mile-trail-run/
LOCATION:WSU\, 14204 NE Salmon Creek Ave.\, Vancouver\, WA\, 98686\, United States
END:VEVENT
BEGIN:VEVENT
DTSTART;TZID=America/Los_Angeles:20191102T100000
DTEND;TZID=America/Los_Angeles:20191102T170000
DTSTAMP:20260423T141851
CREATED:20191003T035859Z
LAST-MODIFIED:20191003T035859Z
UID:855-1572688800-1572714000@www.clarkcountyrunningclub.org
SUMMARY:Lewis River Runs
DESCRIPTION:3 &  5 Mile run on the Lewis River Trail \nStarts at Hantwick Trailhead\, yacolt Washington
URL:https://www.clarkcountyrunningclub.org/event/lewis-river-runs/
END:VEVENT
BEGIN:VEVENT
DTSTART;TZID=America/Los_Angeles:20191026T100000
DTEND;TZID=America/Los_Angeles:20191026T120000
DTSTAMP:20260423T141851
CREATED:20191003T035703Z
LAST-MODIFIED:20191003T035703Z
UID:852-1572084000-1572091200@www.clarkcountyrunningclub.org
SUMMARY:Costume Run on the Waterfront
DESCRIPTION:Kids run at 10\n5K run after kids run
URL:https://www.clarkcountyrunningclub.org/event/costume-run-on-the-waterfront/
LOCATION:grant street pier\,vancouver\, 1221 NE 166th Ave\, Vancouver\, WA\, 98684\, United States
END:VEVENT
BEGIN:VEVENT
DTSTART;TZID=America/Los_Angeles:20190918T183000
DTEND;TZID=America/Los_Angeles:20190918T183000
DTSTAMP:20260423T141851
CREATED:20190903T042837Z
LAST-MODIFIED:20190903T042837Z
UID:849-1568831400-1568831400@www.clarkcountyrunningclub.org
SUMMARY:Homestead park 3K Run
DESCRIPTION:Run 5 laps around paved trail at Homestead Park.  This is hosted by Kevin Edwards. \n 
URL:https://www.clarkcountyrunningclub.org/event/homestead-park-3k-run/
END:VEVENT
BEGIN:VEVENT
DTSTART;TZID=America/Los_Angeles:20190911T183000
DTEND;TZID=America/Los_Angeles:20190911T193000
DTSTAMP:20260423T141851
CREATED:20190903T042705Z
LAST-MODIFIED:20190903T042705Z
UID:847-1568226600-1568230200@www.clarkcountyrunningclub.org
SUMMARY:Heritage Trail  2\, 3 or 4 Mile Run
DESCRIPTION:Start on West end by boat ramp
URL:https://www.clarkcountyrunningclub.org/event/heritage-trail-2-3-or-4-mile-run/
END:VEVENT
BEGIN:VEVENT
DTSTART;TZID=America/Los_Angeles:20190904T183000
DTEND;TZID=America/Los_Angeles:20190904T183000
DTSTAMP:20260423T141851
CREATED:20190607T034015Z
LAST-MODIFIED:20190903T042445Z
UID:828-1567621800-1567621800@www.clarkcountyrunningclub.org
SUMMARY:Tech Center Runs
DESCRIPTION:Run 1\, 2 or 3 Loops.  Each loop is 1.6 miles
URL:https://www.clarkcountyrunningclub.org/event/tech-center-runs/
END:VEVENT
BEGIN:VEVENT
DTSTART;TZID=America/Los_Angeles:20190717T190000
DTEND;TZID=America/Los_Angeles:20190717T200000
DTSTAMP:20260423T141851
CREATED:20190604T034300Z
LAST-MODIFIED:20190604T034300Z
UID:812-1563390000-1563393600@www.clarkcountyrunningclub.org
SUMMARY:Evergreen High School 5K
DESCRIPTION:
URL:https://www.clarkcountyrunningclub.org/event/evergreen-high-school-5k-2/
LOCATION:Evergreen High school\, 14300 NE 18th St\, Vancouver\, WA\, 98684\, United States
END:VEVENT
END:VCALENDAR